Workbook

Sheet albrecht
A1: 14.754098
A2: 14.754098 | B2: =A2-A1 -> 0
A3: 21.153846 | B3: =A3-A2 -> 6.3997478
A4: 21.153846 | B4: =A4-A3 -> 0 | D4: JUMP | E4: =MAX(B:B) -> 15.213115
A5: 24.151697 | B5: =A5-A4 -> 2.9978505
A6: 24.151697 | B6: =A6-A5 -> 0
A7: 32.786885 | B7: =A7-A6 -> 8.6351886
A8: 32.786885 | B8: =A8-A7 -> 0
A9: 48 | B9: =A9-A8 -> 15.213115
A10: 48 | B10: =A10-A9 -> 0
A11: 60.07984 | B11: =A11-A10 -> 12.07984
A12: 60.07984 | B12: =A12-A11 -> 0

Sheet china
A1: 0.16701461
A2: 0.16701461 | B2: =A2-A1 -> 0
A3: 0.72262368 | B3: =A3-A2 -> 0.55560907 | D3: JUMP | E3: =MAX(B:B) -> 2.2078017
A4: 0.72262368 | B4: =A4-A3 -> 0
A5: 0.8336112 | B5: =A5-A4 -> 0.11098752
A6: 0.8336112 | B6: =A6-A5 -> 0
A7: 1.0154525 | B7: =A7-A6 -> 0.18184133
A8: 1.0154525 | B8: =A8-A7 -> 0
A9: 1.0893246 | B9: =A9-A8 -> 0.07387208
A10: 1.0893246 | B10: =A10-A9 -> 0
A11: 1.3113652 | B11: =A11-A10 -> 0.22204055
A12: 1.3113652 | B12: =A12-A11 -> 0
A13: 1.5332198 | B13: =A13-A12 -> 0.2218546
A14: 1.5332198 | B14: =A14-A13 -> 0
A15: 1.7553335 | B15: =A15-A14 -> 0.22211375
... A550: 98.629094 | B550: =A550-A549 -> 0

Sheet coc81
A1: 10
A2: 10 | B2: =A2-A1 -> 0
A3: 11.111111 | B3: =A3-A2 -> 1.1111111 | D3: JUMP | E3: =MAX(B:B) -> 17.657213
A4: 11.111111 | B4: =A4-A3 -> 0
A5: 24.1841 | B5: =A5-A4 -> 13.072989
A6: 24.1841 | B6: =A6-A5 -> 0
A7: 30 | B7: =A7-A6 -> 5.8158996
A8: 30 | B8: =A8-A7 -> 0
A9: 35.714286 | B9: =A9-A8 -> 5.7142857
A10: 35.714286 | B10: =A10-A9 -> 0
A11: 42.857143 | B11: =A11-A10 -> 7.1428571
A12: 42.857143 | B12: =A12-A11 -> 0
A13: 55 | B13: =A13-A12 -> 12.142857
A14: 55 | B14: =A14-A13 -> 0
A15: 55.629139 | B15: =A15-A14 -> 0.62913907
... A34: 97.188656 | B34: =A34-A33 -> 0

Sheet desharnais
A1: 0
A2: 0 | B2: =A2-A1 -> 0
A3: 0 | B3: =A3-A2 -> 0 | D3: JUMP | E3: =MAX(B:B) -> 16.666667
A4: 0 | B4: =A4-A3 -> 0
A5: 0 | B5: =A5-A4 -> 0
A6: 0 | B6: =A6-A5 -> 0
A7: 0 | B7: =A7-A6 -> 0
A8: 0 | B8: =A8-A7 -> 0
A9: 0 | B9: =A9-A8 -> 0
A10: 0 | B10: =A10-A9 -> 0
A11: 0 | B11: =A11-A10 -> 0
A12: 0 | B12: =A12-A11 -> 0
A13: 0 | B13: =A13-A12 -> 0
A14: 0 | B14: =A14-A13 -> 0
A15: 0 | B15: =A15-A14 -> 0
... A128: 66.666667 | B128: =A128-A127 -> 0

Sheet finnish
A1: 1.0994277
A2: 1.0994277 | B2: =A2-A1 -> 0
A3: 1.7391414 | B3: =A3-A2 -> 0.63971371 | D3: JUMP | E3: =MAX(B:B) -> 3.2302149
A4: 1.7391414 | B4: =A4-A3 -> 0
A5: 1.9571788 | B5: =A5-A4 -> 0.21803733
A6: 1.9571788 | B6: =A6-A5 -> 0
A7: 2.2198961 | B7: =A7-A6 -> 0.26271733
A8: 2.2198961 | B8: =A8-A7 -> 0
A9: 2.2735036 | B9: =A9-A8 -> 0.053607549
A10: 2.2735036 | B10: =A10-A9 -> 0
A11: 2.8194486 | B11: =A11-A10 -> 0.54594492
A12: 2.8194486 | B12: =A12-A11 -> 0
A13: 2.8199148 | B13: =A13-A12 -> 0.00046623431
A14: 2.8199148 | B14: =A14-A13 -> 0
A15: 3.1868611 | B15: =A15-A14 -> 0.36694631
... A74: 24.9143 | B74: =A74-A73 -> 0

Sheet kemerer
A1: 10.241657
A2: 10.241657 | B2: =A2-A1 -> 0
A3: 19.562716 | B3: =A3-A2 -> 9.3210587
A4: 19.562716 | B4: =A4-A3 -> 0 | D4: JUMP | E4: =MAX(B2:B14) -> 16.848787
A5: 36.411503 | B5: =A5-A4 -> 16.848787
A6: 36.411503 | B6: =A6-A5 -> 0
A7: 44.649682 | B7: =A7-A6 -> 8.2381789
A8: 44.649682 | B8: =A8-A7 -> 0
A9: 50.318471 | B9: =A9-A8 -> 5.6687898
A10: 50.318471 | B10: =A10-A9 -> 0
A11: 64.803564 | B11: =A11-A10 -> 14.485093
A12: 64.803564 | B12: =A12-A11 -> 0
A13: 71.688943 | B13: =A13-A12 -> 6.8853787
A14: 71.688943 | B14: =A14-A13 -> 0

Sheet maxwell
A1: 7.2174535
A2: 7.2174535 | B2: =A2-A1 -> 0
A3: 11.201885 | B3: =A3-A2 -> 3.9844318
A4: 11.201885 | B4: =A4-A3 -> 0 | D4: JUMP | E4: =MAX(B:B) -> 6.3388718
A5: 11.597222 | B5: =A5-A4 -> 0.39533691
A6: 11.597222 | B6: =A6-A5 -> 0
A7: 13.253012 | B7: =A7-A6 -> 1.6557898
A8: 13.253012 | B8: =A8-A7 -> 0
A9: 15.542364 | B9: =A9-A8 -> 2.2893517
A10: 15.542364 | B10: =A10-A9 -> 0
A11: 21.361502 | B11: =A11-A10 -> 5.8191386
A12: 21.361502 | B12: =A12-A11 -> 0
A13: 21.638054 | B13: =A13-A12 -> 0.27655202
A14: 21.638054 | B14: =A14-A13 -> 0
A15: 24.235509 | B15: =A15-A14 -> 2.5974545
A16: 24.235509 | B16: =A16-A15 -> 0
... A76: 88.05667 | B76: =A76-A75 -> 0

Sheet nasa93
A1: 0.11248594
A2: 0.11248594 | B2: =A2-A1 -> 0
A3: 21.176471 | B3: =A3-A2 -> 21.063985
A4: 21.176471 | B4: =A4-A3 -> 0 | D4: JUMP | E4: =MAX(B:B) -> 21.063985
A5: 32.432432 | B5: =A5-A4 -> 11.255962
A6: 32.432432 | B6: =A6-A5 -> 0
A7: 34.193548 | B7: =A7-A6 -> 1.761116
A8: 34.193548 | B8: =A8-A7 -> 0
A9: 42.347601 | B9: =A9-A8 -> 8.1540521
A10: 42.347601 | B10: =A10-A9 -> 0
A11: 43.636364 | B11: =A11-A10 -> 1.2887631
A12: 43.636364 | B12: =A12-A11 -> 0
A13: 46.147333 | B13: =A13-A12 -> 2.5109691
A14: 46.147333 | B14: =A14-A13 -> 0
A15: 47.761194 | B15: =A15-A14 -> 1.6138613
A16: 47.761194 | B16: =A16-A15 -> 0
... A30: 89.89899 | B30: =A30-A29 -> 0

Sheet Sheet1
A1: Name | B1: Jump
A2: china | B2: =china!E3 -> 2.2078017
A3: finnish | B3: =finnish!E3 -> 3.2302149
A4: maxwell | B4: =maxwell!E4 -> 6.3388718
A5: albrecht | B5: =albrecht!E4+Sheet1!E4 -> 15.213115
A6: desharnais | B6: =desharnais!E3 -> 16.666667
A7: kemerer | B7: =kemerer!E4 -> 16.848787
A8: coc81 | B8: ='coc81'!E3 -> 17.657213
A9: nasa93 | B9: =nasa93!E4 -> 21.063985
